BEGIN:VCALENDAR
VERSION:2.0
PRODID:-//Fundación Pueblos de América - ECPv6.15.18//NONSGML v1.0//EN
CALSCALE:GREGORIAN
METHOD:PUBLISH
X-ORIGINAL-URL:https://www.fupaecuador.org
X-WR-CALDESC:Eventos para Fundación Pueblos de América
REFRESH-INTERVAL;VALUE=DURATION:PT1H
X-Robots-Tag:noindex
X-PUBLISHED-TTL:PT1H
BEGIN:VTIMEZONE
TZID:America/Guayaquil
BEGIN:STANDARD
TZOFFSETFROM:-0500
TZOFFSETTO:-0500
TZNAME:-05
DTSTART:20240101T000000
END:STANDARD
END:VTIMEZONE
BEGIN:VEVENT
DTSTART;TZID=America/Guayaquil:20250225T160000
DTEND;TZID=America/Guayaquil:20250226T203000
DTSTAMP:20260419T182146
CREATED:20250221T031142Z
LAST-MODIFIED:20250222T120817Z
UID:6352-1740499200-1740601800@www.fupaecuador.org
SUMMARY:Hacia un barrio dinámico y Ciudades circulares
DESCRIPTION:La Fundación Pueblos de América te invita:\nLa Mariscal se encuentra en proceso de reinvención\, la próxima implementación del Distrito de Innovación despierta un amplio abanico de posibilidades. 🏡🏘️🏛️🏡🏠\nMedellín (Colombia) es una referencia de dinámica urbana en constante evolución; Mauricio Facio Lince\, un experto colombiano en desarrollo urbano sostenible y en economía circular\, tiene larga experiencia en la gestión de estos procesos urbanos.\nSu *conferencia magistral “Ciudades que innovan\, Medellín más allá de Netflix”* sobre experiencias urbanas innovadoras brinda la oportunidad de conocer más sobre las potencialidades del desarrollo urbano desde un enfoque de sostenibilidad y de circularidad económica. 🌈🌈\nAdemás\, con Mauricio Facio Lince tendremos la oportunidad de trabajar en el *taller: “Ciudades circulares: La Mariscal y su reinvención”*\nSi deseas ser parte de esta oportunidad de aprender\, conocer y conversar sobre La Mariscal y sobre las dinámicas de innovación urbana\, *regístrate en los siguientes formularios*. Cupos limitados.\nEstas propuestas se realizan en el contexto de las jornadas “Hacia un barrio dinámico\, por la circularidad económica”. Y forman parte del Convenio Distrito de Innovación entre la Secretaría de Desarrollo Económico y Productivo (MDMQ) y el Buró de La Mariscal\, con la dirección técnica de la Iniciativa Urbana Mariscal Sur. \n@dhmontesinos\n@mariscalsur \n 
URL:https://www.fupaecuador.org/event/6352/
LOCATION:Fundación Pueblos de América\, Calle Reina Victoria N26-50\, Quito\, Pichincha\, Ecuador
CATEGORIES:Conferencias,Conversatorio,Evento especial
ATTACH;FMTTYPE=image/jpeg:https://www.fupaecuador.org/wp-content/uploads/2025/02/proximos_even-barrio.jpg
ORGANIZER;CN="Fundaci%C3%B3n Pueblos de Am%C3%A9rica":MAILTO:info@fupaecuador.com
END:VEVENT
BEGIN:VEVENT
DTSTART;TZID=America/Guayaquil:20250225T163000
DTEND;TZID=America/Guayaquil:20250225T193000
DTSTAMP:20260419T182146
CREATED:20250220T120913Z
LAST-MODIFIED:20250222T121245Z
UID:6359-1740501000-1740511800@www.fupaecuador.org
SUMMARY:Hacia un barrio dinámico\, por la circularidad económica
DESCRIPTION:
URL:https://www.fupaecuador.org/event/hacia-un-barrio-dinamico-por-la-circularidad-economica/
LOCATION:Fundación Pueblos de América\, Calle Reina Victoria N26-50\, Quito\, Pichincha\, Ecuador
CATEGORIES:Conversatorio,Evento especial
ATTACH;FMTTYPE=image/jpeg:https://www.fupaecuador.org/wp-content/uploads/2025/02/proximos_even-barrio.jpg
ORGANIZER;CN="Fundaci%C3%B3n Pueblos de Am%C3%A9rica":MAILTO:info@fupaecuador.com
END:VEVENT
END:VCALENDAR