BEGIN:VCALENDAR
VERSION:2.0
PRODID:-//Fundación Pueblos de América - ECPv6.15.20//NONSGML v1.0//EN
CALSCALE:GREGORIAN
METHOD:PUBLISH
X-WR-CALNAME:Fundación Pueblos de América
X-ORIGINAL-URL:https://www.fupaecuador.org
X-WR-CALDESC:Eventos para Fundación Pueblos de América
REFRESH-INTERVAL;VALUE=DURATION:PT1H
X-Robots-Tag:noindex
X-PUBLISHED-TTL:PT1H
BEGIN:VTIMEZONE
TZID:America/Guayaquil
BEGIN:STANDARD
TZOFFSETFROM:-0500
TZOFFSETTO:-0500
TZNAME:-05
DTSTART:20250101T000000
END:STANDARD
END:VTIMEZONE
BEGIN:VEVENT
DTSTART;TZID=America/Guayaquil:20260416T150000
DTEND;TZID=America/Guayaquil:20260417T170000
DTSTAMP:20260421T115940
CREATED:20260414T124559Z
LAST-MODIFIED:20260421T125157Z
UID:7412-1776351600-1776445200@www.fupaecuador.org
SUMMARY:Clases magistrales de Canto Lírico
DESCRIPTION:Amigos y colegas\, gracias por la acogida que ha tenido esta convocatoria . \nLos cupos para participantes activos ya están cubiertos🙏 . \n‼️Son bienvenidos como oyentes a pasar dos tardes de aprendizaje y camaradería musical‼️ \n💥Donación sugerida oyentes 5usd 💥\n(todo público) \nCLASES MAGISTRALES DE CANTO LÍRICO\ncon David Esteban Fruci\, tenor \n📍 Lugar: FUPA – Fundación Pueblos de América ( Reina Victoria entre La Pinta y La Santa María) \n📅 Fechas: 16 y 17 de abril\n⏰ Horario: 15h00 – 19h00\n🎤 Dirigido a todos los amantes del canto lírico. \n📩 Reservas e información:\n📞 0999847421 \nGracias siempre a Fundación Pueblos America FUPA por su compromiso con el art
URL:https://www.fupaecuador.org/event/clases-magistrales-de-canto-lirico/
LOCATION:Fundación Pueblos de América\, Calle Reina Victoria N26-50\, Quito\, Pichincha\, Ecuador
CATEGORIES:Canto,Música
ATTACH;FMTTYPE=image/jpeg:https://www.fupaecuador.org/wp-content/uploads/2026/04/noticia_destacada_clases_magistrales.jpg
ORGANIZER;CN="Fundaci%C3%B3n Pueblos de Am%C3%A9rica":MAILTO:info@fupaecuador.com
END:VEVENT
END:VCALENDAR